BEGIN:VCALENDAR
VERSION:2.0
PRODID:spatie/icalendar-generator
NAME:Business & Brötchen #2
X-WR-CALNAME:Business & Brötchen #2
BEGIN:VTIMEZONE
TZID:Europe/Berlin
BEGIN:DAYLIGHT
DTSTART:20240331T010000
TZOFFSETFROM:+0100
TZOFFSETTO:+0200
END:DAYLIGHT
BEGIN:STANDARD
DTSTART:20241027T030000
TZOFFSETFROM:+0200
TZOFFSETTO:+0100
END:STANDARD
BEGIN:DAYLIGHT
DTSTART:20250330T010000
TZOFFSETFROM:+0100
TZOFFSETTO:+0200
END:DAYLIGHT
END:VTIMEZONE
BEGIN:VTIMEZONE
TZID:UTC
BEGIN:STANDARD
DTSTART:20250724T160650
TZOFFSETFROM:+0000
TZOFFSETTO:+0000
END:STANDARD
END:VTIMEZONE
BEGIN:VEVENT
UID:69e64f1a21101
DTSTAMP:20260420T160650Z
SUMMARY:Business & Brötchen #2
DESCRIPTION:Nachhaltigkeitsberichterstattung in der Praxis:Warum Nachhaltig
 keit und ESG auch für kleine und mittelständische Unternehmen relevant s
 indBei „Business &amp\; Brötchen\" bringen wir Unternehmer*innen aus K
 iel\, dem Kreis Rendsburg-Eckernförde und Kreis Plön zusammen\, um sic
 h bei einem Frühstück zu ­Themen der ökologischen\, ökonomischen 
 &amp\; sozialen Nachhaltigkeit auszutauschen und mit Expert*innen Lösung
 sansätze für Ihr Unternehmen zu finden. Dieses Mal geht es um das Nach
 haltigkeitsreporting in der Praxis. Auch wenn kleine und mittelständische
  Betriebe nicht von der Berichtspflicht betroffen sind\, werden sie von Ge
 schäftspartner*innen und Kund*innen oft aufgefordert\, Informationen bere
 itzustellen. Welche Relevanz dies hat und wie man es praxisnah umsetzen ka
 nn\, berichtet Niels Christiansen von der Unternehmensberatung Sustainerat
 ion.Gastgebende Organisation ist das TransMarTech\, Schleswig-Holsteins Tr
 ansferzentrum für maritime Technologien. Das TransMarTech wird Einblicke 
 in ihre Schritte hin zur Gemeinwohlökonomie geben und uns mit Frühstück
 s-Snacks versorgen.Wir freuen uns auf regen Austausch und einen inspiriere
 nden Start in den Tag mit Ihnen!\n\nEine Kooperations-Veranstaltung von ED
 IH.SH\, der KielRegion/GrønBusiness\, opencampus.sh und der Kieler Wirtsc
 haftsförderung.\n\n\n\n\n
LOCATION:TransMarTech\, Wischhofstraße 1-3\, Gebäude 1/Markthalle\, 24148
  Kiel
URL:https://events.kiwi-kiel.de/event/QPrQ4N8D
DTSTART;TZID=Europe/Berlin:20241211T090000
DTEND;TZID=Europe/Berlin:20241211T103000
END:VEVENT
END:VCALENDAR