BEGIN:VCALENDAR
VERSION:2.0
PRODID:spatie/icalendar-generator
NAME:Deutsch-dänisches Match-Making Event für die Maritime Verteidigungsw
 irtschaft
X-WR-CALNAME:Deutsch-dänisches Match-Making Event für die Maritime Vertei
 digungswirtschaft
BEGIN:VTIMEZONE
TZID:Europe/Berlin
BEGIN:STANDARD
DTSTART:20241027T030000
TZOFFSETFROM:+0200
TZOFFSETTO:+0100
END:STANDARD
BEGIN:DAYLIGHT
DTSTART:20250330T010000
TZOFFSETFROM:+0100
TZOFFSETTO:+0200
END:DAYLIGHT
BEGIN:STANDARD
DTSTART:20251026T030000
TZOFFSETFROM:+0200
TZOFFSETTO:+0100
END:STANDARD
END:VTIMEZONE
BEGIN:VTIMEZONE
TZID:UTC
BEGIN:STANDARD
DTSTART:20250728T180414
TZOFFSETFROM:+0000
TZOFFSETTO:+0000
END:STANDARD
END:VTIMEZONE
BEGIN:VEVENT
UID:69ebb09e6b1f0
DTSTAMP:20260424T180414Z
SUMMARY:Deutsch-dänisches Match-Making Event für die Maritime Verteidigun
 gswirtschaft
DESCRIPTION:Im Rahmen des Interreg-Projekts \"Fehmarnbelt Innovation\" wird
  am 29.4.2025 eine Gruppe von ca. 40 Unternehmensvertreter*innen dänische
 r maritimer Verteidigungsunternehmen in Kiel zu Gast sein.\n\nIn diesem Ko
 ntext laden wir deutsche Unternehmensvertreter*innen dieser Branche herzli
 ch zu einem Match-Making Event für zukünftige Kooperationen ein.\n\nAgen
 da\n13:00 Uhr Imbiss und Netzwerken\n13:45 Uhr Johannes Peters (Institut f
 ür Sicherheitspolitik\, Christian-Albrechts-Universität Kiel): The Balti
 c Sea – Geopolitics under the magnifying glass\n14:15 Uhr Dr. Lino Schne
 ider-Bertenburg (Nationale Kontaktstelle für den Europäischen Verteidigu
 ngsfonds): European Defence Cooperation within the EDF\n14:45 Uhr Match-Ma
 king (B2B) (3 Runden à 20 min)\n16:00 Uhr Ende der Veranstaltung\n\n\n
LOCATION:Wissenschaftszentrum Kiel GmbH\, Fraunhoferstr. 13\, 24118 Kiel
URL:https://events.kiwi-kiel.de/event/PxDP4bKr
DTSTART;TZID=Europe/Berlin:20250429T130000
DTEND;TZID=Europe/Berlin:20250429T160000
END:VEVENT
END:VCALENDAR